BEGIN:VCALENDAR
VERSION:2.0
PRODID:-//Crystal Healer - ECPv5.1.4//NONSGML v1.0//EN
CALSCALE:GREGORIAN
METHOD:PUBLISH
X-WR-CALNAME:Crystal Healer
X-ORIGINAL-URL:https://crystalhealer.net
X-WR-CALDESC:Events for Crystal Healer
BEGIN:VTIMEZONE
TZID:Europe/London
BEGIN:DAYLIGHT
TZOFFSETFROM:+0000
TZOFFSETTO:+0100
TZNAME:BST
DTSTART:20200329T010000
END:DAYLIGHT
BEGIN:STANDARD
TZOFFSETFROM:+0100
TZOFFSETTO:+0000
TZNAME:GMT
DTSTART:20201025T010000
END:STANDARD
END:VTIMEZONE
BEGIN:VEVENT
DTSTART;TZID=Europe/London:20201018T090000
DTEND;TZID=Europe/London:20201018T170000
DTSTAMP:20260421T143948
CREATED:20200618T152357Z
LAST-MODIFIED:20200618T153121Z
UID:92-1603011600-1603040400@crystalhealer.net
SUMMARY:Psychic Fayre
DESCRIPTION:The Big Purple Psychic & Holistic Fair \n
URL:https://crystalhealer.net/event/psychic-fayre/
LOCATION:Chessington School\, Garrison Lane\, Chessington\, Surrey\, KT9 2JS\, United Kingdom
CATEGORIES:Psychic Fayres
END:VEVENT
END:VCALENDAR